Workbook

Sheet Start
A1: EXCEL → TSV | FUNKTIONSTEST
A2: Testmappe für blattweise tab-separierte RFC-4180-Exporte und einen separaten Formel-Nachweis.
A3: Bereich | B3: Inhalt | C3: Prüfziel | D3: Fälle
A4: Grunddaten | B4: Zentrale Eingaben und Lookup-Tabellen | C4: Referenzen, leere Zellen, Zahlen, Text, Datumswerte | D4: 12
A5: Mathematik | B5: Arithmetik und Rundung | C5: Operanden, Prozentwerte, relative / absolute Bezüge | D5: 18
A6: Statistik | B6: Kennzahlen und Rangfolgen | C6: Zahlen, Nullen, Ausreißer, Leerwerte | D6: 16
A7: Logik | B7: Bedingungen und Fehlerbehandlung | C7: Wahr/Falsch, AND/OR, IFERROR, IFNA | D7: 15
A8: Text | B8: Textbearbeitung | C8: Unicode, Trennzeichen, Formelausgabe als Text | D8: 18
A9: Datum | B9: Datums- und Zeitfunktionen | C9: Datumsserienwerte, Monatsgrenzen, Wochentage | D9: 18
A10: Nachschlagen | B10: Suchen und Indexieren | C10: exakte Treffer, fehlende Schlüssel, Positionen | D10: 14
A11: Aggregation | B11: Summen nach Kriterien | C11: Wildcards, mehrere Kriterien, sichtbare Zeilen | D11: 15
A12: Export-Kanten | B12: Kontrollierte TSV-Grenzfälle | C12: Tab, Anführungszeichen, Zeilenumbruch, Fehlerzellen | D12: 23
A13: LESEHINWEIS | B13: Eingaben sind blau, Formelergebnisse dunkel; Quelltabellen stehen in Grunddaten.
A14: EXPORTREGEL | B14: Textzellen mit Tab, CR/LF oder Anführungszeichen müssen entsprechend RFC 4180 gequotet werden.
A15: FORMELDATEI | B15: Formeln separat mit Blatt, Zelladresse und Formeltext erfassen; Werte-Dateien enthalten berechnete Anzeigen.
A16: HINWEIS | B16: Excel-Fehlerzellen im Blatt Export-Kanten sind absichtlich erzeugt und keine Defekte der Testmappe.
A17: UMFANG | B17: 12 Quelldatensätze · 23 Export-Kantenfälle | C17: 123 Formeln in sieben Funktionsgruppen und dem Exportblatt
A18: FEHLERZELLEN | B18: 4 absichtliche Fehler in Export-Kanten | C18: Fehlerwerte sollen getrennt von Formeltext und angezeigtem Text nachvollziehbar bleiben.
A19: VERSIONSHINWEIS | B19: XLOOKUP / XMATCH benötigen modernes Excel | C19: Weder volatile Zufallsformeln noch dynamische Webdaten enthalten.

Sheet Grunddaten
A1: ID | B1: Region | C1: Produkt | D1: Menge | E1: Preis EUR | F1: Datum | H1: Code | I1: Region | J1: Faktor | L1: Fall | M1: Testtext
A2: P01 | B2: Nord | C2: Apfel | D2: 10 | E2: 2.5 | F2: 45306 | H2: N | I2: Nord | J2: 1.1 | L2: ASCII | M2: Hallo Welt
A3: P02 | B3: Süd | C3: Birne | D3: 0 | E3: 3.2 | F3: 45351 | H3: S | I3: Süd | J3: 0.9 | L3: Tab | M3: Links Rechts
A4: P03 | B4: Nord | C4: Kirsche | D4: 7 | E4: 4.75 | F4: 45382 | H4: O | I4: Ost | J4: 1.05 | L4: LF | M4: Erste Zeile Zweite Zeile
A5: P04 | B5: West | C5: Apfel | D5: -2 | E5: 2.5 | F5: 45383 | H5: W | I5: West | J5: 1.2 | L5: CRLF | M5: Erste Zeile_x000D_ Zweite Zeile
A6: P05 | B6: Süd | C6: Mango | D6: 12 | E6: 5.1 | F6: 45422 | L6: Zitat | M6: Er sagte "Hallo"
A7: P06 | B7: Ost | C7: Birne | D7: 5 | E7: 3.2 | F7: 45473 | L7: Unicode | M7: Größe € 😀 é
A8: P07 | B8: Nord | C8: Kiwi | D8: 15 | E8: 1.99 | F8: 45477 | L8: Führende Null | M8: 123
A9: P08 | B9: West | C9: Mango | D9: 8 | E9: 5.1 | F9: 45519 | L9: Apostroph | M9: O'Brien
A10: P09 | B10: Ost | C10: Apfel | E10: 2.5 | F10: 45536 | L10: Formelähnlicher Text | M10: =SUM(1,2) -> 3
A11: P10 | B11: Nord | C11: Pfirsich | D11: 20 | E11: 0 | F11: 45657 | L11: Komma/Semikolon | M11: rot,grün;blau
A12: P11 | B12: Süd | C12: Apfel | D12: 3 | E12: 2.5 | F12: 45658
A13: P12 | B13: Ost | C13: Zitrone | D13: 1 | E13: 0.1 | F13: 45702

Sheet Mathematik
A1: Test-ID | B1: Funktion | C1: Prüffall | D1: Ergebnis | E1: Exportaspekt
A2: M01 | B2: SUM | C2: Gesamtmenge | D2: =SUM(Grunddaten!D2:D13) -> 79 | E2: Null und Leerwert
A3: M02 | B3: PRODUCT | C3: Produkt zweier Mengen | D3: =PRODUCT(Grunddaten!D2,Grunddaten!D4) -> 70 | E3: Multiplikation
A4: M03 | B4: SUMPRODUCT | C4: Menge × Preis, alle Datensätze | D4: =SUMPRODUCT(Grunddaten!D2:D13,Grunddaten!E2:E13) -> 208.7 | E4: Leerwert als 0
A5: M04 | B5: ABS | C5: Negativen Bestand positiv darstellen | D5: =ABS(Grunddaten!D5) -> 2 | E5: Vorzeichen
A6: M05 | B6: ROUND | C6: Preis auf eine Stelle | D6: =ROUND(Grunddaten!E4,1) -> 4.8 | E6: Rundung
A7: M06 | B7: ROUNDUP | C7: Preis auf ganze Zahl aufrunden | D7: =ROUNDUP(Grunddaten!E4,0) -> 5 | E7: Aufrunden
A8: M07 | B8: ROUNDDOWN | C8: Preis auf ganze Zahl abrunden | D8: =ROUNDDOWN(Grunddaten!E4,0) -> 4 | E8: Abrunden
A9: M08 | B9: INT | C9: Ganzzahl eines negativen Werts | D9: =INT(Grunddaten!D5/3) -> -1 | E9: Richtung minus unendlich
A10: M09 | B10: MOD | C10: Rest einer Division | D10: =MOD(Grunddaten!D2,3) -> 1 | E10: Division
A11: M10 | B11: POWER | C11: Potenz | D11: =POWER(Grunddaten!D4,2) -> 49 | E11: Quadrat
A12: M11 | B12: SQRT | C12: Quadratwurzel | D12: =SQRT(Grunddaten!D2) -> 3.1622777 | E12: Dezimalzahl
A13: M12 | B13: CEILING.MATH | C13: Aufrunden auf Vielfaches | D13: =_xlfn.CEILING.MATH(Grunddaten!E4,0.5) -> 5 | E13: Schrittweite
A14: M13 | B14: FLOOR.MATH | C14: Abrunden auf Vielfaches | D14: =_xlfn.FLOOR.MATH(Grunddaten!E4,0.5) -> 4.5 | E14: Schrittweite
A15: M14 | B15: TRUNC | C15: Abschneiden ohne Rundung | D15: =TRUNC(Grunddaten!E4,1) -> 4.7 | E15: Dezimalzahl
A16: M15 | B16: PI | C16: Kreiszahl | D16: =PI() -> 3.1415927 | E16: Konstante
A17: M16 | B17: SIN | C17: Sinus von 30° | D17: =SIN(RADIANS(30)) -> 0.5 | E17: Winkel
A18: M17 | B18: EXP / LN | C18: Umkehrfunktionen | D18: =LN(EXP(2)) -> 2 | E18: Verschachtelung
A19: M18 | B19: SUM / absolut | C19: Absolute Preisreferenz | D19: =Grunddaten!D2*Grunddaten!$E$2 -> 25 | E19: Gemischte Bezugstypen

Sheet Statistik
A1: Test-ID | B1: Funktion | C1: Prüffall | D1: Ergebnis | E1: Exportaspekt
A2: S01 | B2: COUNT | C2: Anzahl numerischer Mengen | D2: =COUNT(Grunddaten!D2:D13) -> 11 | E2: Leerwert ausgeschlossen
A3: S02 | B3: COUNTA | C3: Anzahl befüllter Produktnamen | D3: =COUNTA(Grunddaten!C2:C13) -> 12 | E3: Textwerte
A4: S03 | B4: COUNTBLANK | C4: Leere Menge | D4: =COUNTBLANK(Grunddaten!D2:D13) -> 1 | E4: Echte leere Zelle
A5: S04 | B5: AVERAGE | C5: Mittelwert inklusive Null | D5: =AVERAGE(Grunddaten!D2:D13) -> 7.1818182 | E5: 0 enthalten
A6: S05 | B6: AVERAGEIF | C6: Mittelwert ohne Null | D6: =AVERAGEIF(Grunddaten!D2:D13,"<>0") -> 7.9 | E6: 0 ausgeschlossen
A7: S06 | B7: MEDIAN | C7: Median der Mengen | D7: =MEDIAN(Grunddaten!D2:D13) -> 7 | E7: Robuste Lage
A8: S07 | B8: MODE.SNGL | C8: Häufigster Preis | D8: =_xlfn.MODE.SNGL(Grunddaten!E2:E13) -> 2.5 | E8: Doppelte Werte
A9: S08 | B9: MIN | C9: Niedrigste Menge | D9: =MIN(Grunddaten!D2:D13) -> -2 | E9: Negative Werte
A10: S09 | B10: MAX | C10: Höchste Menge | D10: =MAX(Grunddaten!D2:D13) -> 20 | E10: Maximum
A11: S10 | B11: LARGE | C11: Zweitgrößte Menge | D11: =LARGE(Grunddaten!D2:D13,2) -> 15 | E11: Rang
A12: S11 | B12: SMALL | C12: Zweitkleinste Menge | D12: =SMALL(Grunddaten!D2:D13,2) -> 0 | E12: Rang
A13: S12 | B13: STDEV.S | C13: Stichprobenstreuung | D13: =_xlfn.STDEV.S(Grunddaten!D2:D13) -> 6.7352533 | E13: Streuung
A14: S13 | B14: VAR.P | C14: Populationsvarianz | D14: =_xlfn.VAR.P(Grunddaten!D2:D13) -> 41.239669 | E14: Varianz
A15: S14 | B15: PERCENTILE.INC | C15: 75. Perzentil | D15: =_xlfn.PERCENTILE.INC(Grunddaten!D2:D13,0.75) -> 11 | E15: Quantil
A16: S15 | B16: RANK.EQ | C16: Rang der ersten Menge | D16: =_xlfn.RANK.EQ(Grunddaten!D2,Grunddaten!D2:D13,0) -> 4 | E16: Absteigend
A17: S16 | B17: CORREL | C17: Menge gegen Preis (nur vollständige Paare) | D17: =CORREL(Grunddaten!D2:D13,Grunddaten!E2:E13) -> -0.11433642 | E17: Korrelation

Sheet Logik
A1: Test-ID | B1: Funktion | C1: Prüffall | D1: Ergebnis | E1: Exportaspekt
A2: L01 | B2: IF | C2: Nullmenge ist nicht positiv | D2: =IF(Grunddaten!D3>0,"positiv","nicht positiv") -> nicht positiv | E2: Zweigwahl
A3: L02 | B3: AND | C3: Zwei Bedingungen erfüllt | D3: =AND(Grunddaten!D2>0,Grunddaten!E2>0) -> TRUE | E3: WAHR/FALSCH
A4: L03 | B4: OR | C4: Mindestens eine Bedingung | D4: =OR(Grunddaten!D3=0,Grunddaten!E3=0) -> TRUE | E4: WAHR/FALSCH
A5: L04 | B5: NOT | C5: Negation | D5: =NOT(Grunddaten!D5>0) -> TRUE | E5: WAHR/FALSCH
A6: L05 | B6: IF / AND | C6: Mehrere Bedingungen | D6: =IF(AND(Grunddaten!D2>=10,Grunddaten!B2="Nord"),"OK","Nein") -> OK | E6: Verschachtelung
A7: L06 | B7: IFERROR | C7: Division durch 0 auffangen | D7: =IFERROR(Grunddaten!D2/Grunddaten!D3,"Division durch Null") -> Division durch Null | E7: Fehlerbehandlung
A8: L07 | B8: IFNA | C8: Nicht gefunden auffangen | D8: =_xlfn.IFNA(MATCH("P99",Grunddaten!A2:A13,0),"kein Treffer") -> kein Treffer | E8: #N/A abfangen
A9: L08 | B9: ISBLANK | C9: Echter Leerwert | D9: =ISBLANK(Grunddaten!D10) -> TRUE | E9: Leere Zelle
A10: L09 | B10: ISNUMBER | C10: Zahl erkennen | D10: =ISNUMBER(Grunddaten!E2) -> TRUE | E10: Typprüfung
A11: L10 | B11: ISTEXT | C11: Text erkennen | D11: =ISTEXT(Grunddaten!C2) -> TRUE | E11: Typprüfung
A12: L11 | B12: ISERROR | C12: Absichtlicher Fehler | D12: =ISERROR(1/0) -> TRUE | E12: Fehler erkennen
A13: L12 | B13: EXACT | C13: Groß-/Kleinschreibung beachten | D13: =EXACT("Apfel","apfel") -> FALSE | E13: Textvergleich
A14: L13 | B14: SWITCH | C14: Region klassifizieren | D14: {=_xlfn.SWITCH(Grunddaten!B2,"Nord","N","Süd","S","andere")} -> N | E14: Fallunterscheidung
A15: L14 | B15: IFS | C15: Mehrstufige Klassifikation | D15: {=_xlfn.IFS(Grunddaten!D2<0,"negativ",Grunddaten!D2=0,"null",TRUE,"positiv")} -> positiv | E15: Reihenfolge
A16: L15 | B16: IF / leer | C16: Leere Quelle explizit kennzeichnen | D16: =IF(ISBLANK(Grunddaten!D10),"LEER",Grunddaten!D10) -> LEER | E16: Leer vs. Null

Sheet Text
A1: Test-ID | B1: Funktion | C1: Prüffall | D1: Ergebnis | E1: Exportaspekt
A2: T01 | B2: LEN | C2: Unicode-Textlänge | D2: =LEN(Grunddaten!M7) -> 11 | E2: Zeichen zählen
A3: T02 | B3: TRIM | C3: Ränder und Mehrfachleerzeichen entfernen | D3: =TRIM(Grunddaten!M2) -> Hallo Welt | E3: Whitespace
A4: T03 | B4: LEFT | C4: Erste drei Zeichen | D4: =LEFT(Grunddaten!C2,3) -> Apf | E4: Teilstring
A5: T04 | B5: RIGHT | C5: Letzte drei Zeichen | D5: =RIGHT(Grunddaten!C2,3) -> fel | E5: Teilstring
A6: T05 | B6: MID | C6: Zeichen in der Mitte | D6: =MID(Grunddaten!C4,2,3) -> irs | E6: Teilstring
A7: T06 | B7: UPPER | C7: Großschreibung | D7: =UPPER(Grunddaten!C2) -> APFEL | E7: Groß/Klein
A8: T07 | B8: LOWER | C8: Kleinschreibung | D8: =LOWER(Grunddaten!C2) -> apfel | E8: Groß/Klein
A9: T08 | B9: PROPER | C9: Titel-Schreibung | D9: =PROPER("hallo WELT") -> Hallo Welt | E9: Groß/Klein
A10: T09 | B10: CONCAT | C10: ID und Produkt verbinden | D10: =_xlfn.CONCAT(Grunddaten!A2," - ",Grunddaten!C2) -> P01 - Apfel | E10: Textverkettung
A11: T10 | B11: TEXTJOIN | C11: Liste mit Trennzeichen | D11: =_xlfn.TEXTJOIN(" | ",TRUE,Grunddaten!C2:C5) -> Apfel | Birne | Kirsche | Apfel | E11: Mehrere Zellen
A12: T11 | B12: FIND | C12: Groß-/Kleinsensitives Suchen | D12: =FIND("fi",Grunddaten!C11) -> 2 | E12: Position
A13: T12 | B13: SEARCH | C13: Unsensitives Suchen | D13: =SEARCH("AP",Grunddaten!C2) -> 1 | E13: Position
A14: T13 | B14: SUBSTITUTE | C14: Zeichen ersetzen | D14: =SUBSTITUTE(Grunddaten!M6,"Hallo","Tschüss") -> Er sagte "Tschüss" | E14: Anführungszeichen
A15: T14 | B15: REPLACE | C15: Zeichenposition ersetzen | D15: =REPLACE("ABCDE",2,3,"xyz") -> AxyzE | E15: Position
A16: T15 | B16: TEXT | C16: Zahl als formatierter Text | D16: =TEXT(Grunddaten!E2,"0.00") -> 003 | E16: Ergebnis ist Text
A17: T16 | B17: VALUE | C17: Führende Nullen zu Zahl | D17: =VALUE(Grunddaten!M8) -> 123 | E17: Text → Zahl
A18: T17 | B18: CHAR | C18: Tabulator erzeugen | D18: =_xlfn.CONCAT("A",CHAR(9),"B") -> A B | E18: Quoting im Export
A19: T18 | B19: CLEAN | C19: Steuerzeichen entfernen | D19: =CLEAN(Grunddaten!M3) -> LinksRechts | E19: Tab im Quelltext

Sheet Datum
A1: Test-ID | B1: Funktion | C1: Prüffall | D1: Ergebnis | E1: Exportaspekt
A2: D01 | B2: DATE | C2: Datum aus Komponenten | D2: =DATE(2024,2,29) -> 45351 | E2: Datum
A3: D02 | B3: YEAR | C3: Jahr der Quelle | D3: =YEAR(Grunddaten!F3) -> 2024 | E3: Ganzzahl
A4: D03 | B4: MONTH | C4: Monat der Quelle | D4: =MONTH(Grunddaten!F3) -> 2 | E4: Ganzzahl
A5: D04 | B5: DAY | C5: Tag der Quelle | D5: =DAY(Grunddaten!F3) -> 29 | E5: Ganzzahl
A6: D05 | B6: EDATE | C6: Ein Monat ab Schalttag | D6: =EDATE(Grunddaten!F3,1) -> 45380 | E6: Monatswechsel
A7: D06 | B7: EOMONTH | C7: Monatsende des Folgemonats | D7: =EOMONTH(Grunddaten!F3,1) -> 45382 | E7: Monatsende
A8: D07 | B8: WEEKDAY | C8: Wochentag Montag = 1 | D8: =WEEKDAY(Grunddaten!F3,2) -> 4 | E8: Wochentag
A9: D08 | B9: WEEKNUM | C9: Wochennummer Montag zuerst | D9: =WEEKNUM(Grunddaten!F3,2) -> 9 | E9: Kalenderwoche
A10: D09 | B10: ISOWEEKNUM | C10: ISO-Kalenderwoche | D10: =_xlfn.ISOWEEKNUM(Grunddaten!F3) -> 9 | E10: ISO
A11: D10 | B11: DAYS | C11: Tage zwischen zwei Datumswerten | D11: =_xlfn.DAYS(Grunddaten!F4,Grunddaten!F2) -> 76 | E11: Differenz
A12: D11 | B12: DATEDIF | C12: Volle Monate zwischen Daten | D12: =DATEDIF(Grunddaten!F2,Grunddaten!F8,"m") -> 5 | E12: Monatsdifferenz
A13: D12 | B13: NETWORKDAYS | C13: Arbeitstage inkl. Grenzen | D13: =NETWORKDAYS(Grunddaten!F2,Grunddaten!F3) -> 34 | E13: Mo–Fr, ohne Feiertage
A14: D13 | B14: WORKDAY | C14: 10 Arbeitstage später | D14: =WORKDAY(Grunddaten!F2,10) -> 45320 | E14: Mo–Fr
A15: D14 | B15: TIME | C15: Uhrzeit erzeugen | D15: =TIME(14,30,45) -> 0.6046875 | E15: Zeitserienwert
A16: D15 | B16: HOUR | C16: Stunde extrahieren | D16: =HOUR(TIME(14,30,45)) -> 14 | E16: Stunden
A17: D16 | B17: MINUTE | C17: Minute extrahieren | D17: =MINUTE(TIME(14,30,45)) -> 30 | E17: Minuten
A18: D17 | B18: SECOND | C18: Sekunde extrahieren | D18: =SECOND(TIME(14,30,45)) -> 45 | E18: Sekunden
A19: D18 | B19: YEARFRAC | C19: Jahresbruchteil | D19: =YEARFRAC(Grunddaten!F2,Grunddaten!F11,1) -> 0.95901639 | E19: Basis actual/actual

Sheet Nachschlagen
A1: Test-ID | B1: Funktion | C1: Prüffall | D1: Ergebnis | E1: Exportaspekt
A2: N01 | B2: VLOOKUP | C2: Exakter Regionstreffer | D2: =VLOOKUP("S",Grunddaten!H2:J5,2,FALSE) -> Süd | E2: Exakt
A3: N02 | B3: VLOOKUP | C3: Faktor für West | D3: =VLOOKUP("W",Grunddaten!H2:J5,3,FALSE) -> 1.2 | E3: Numerisch
A4: N03 | B4: INDEX / MATCH | C4: Region per ID | D4: =INDEX(Grunddaten!B2:B13,MATCH("P07",Grunddaten!A2:A13,0)) -> Nord | E4: Dynamische Position
A5: N04 | B5: MATCH | C5: Position P07 | D5: =MATCH("P07",Grunddaten!A2:A13,0) -> 7 | E5: 1-basiert
A6: N05 | B6: XMATCH | C6: Position P07 (modern) | D6: =_xlfn.XMATCH("P07",Grunddaten!A2:A13,0) -> 7 | E6: Modernes Excel
A7: N06 | B7: XLOOKUP | C7: Preis zu P07 | D7: =_xlfn.XLOOKUP("P07",Grunddaten!A2:A13,Grunddaten!E2:E13,"fehlt") -> 1.99 | E7: Exakt
A8: N07 | B8: XLOOKUP | C8: Kein Treffer mit Ersatz | D8: =_xlfn.XLOOKUP("P99",Grunddaten!A2:A13,Grunddaten!C2:C13,"fehlt") -> fehlt | E8: Nicht gefunden
A9: N08 | B9: INDEX | C9: Direkte Position | D9: =INDEX(Grunddaten!C2:C13,3) -> Kirsche | E9: Position
A10: N09 | B10: CHOOSE | C10: Element wählen | D10: =CHOOSE(2,"Rot","Blau","Grün") -> Blau | E10: Auswahlliste
A11: N10 | B11: ROW | C11: Zeilennummer der Quelle | D11: =ROW(Grunddaten!A7) -> 7 | E11: Koordinate
A12: N11 | B12: COLUMN | C12: Spaltennummer der Quelle | D12: =COLUMN(Grunddaten!E2) -> 5 | E12: Koordinate
A13: N12 | B13: ADDRESS | C13: Absolute Zelladresse | D13: =ADDRESS(2,5) -> $E$2 | E13: Referenz als Text
A14: N13 | B14: INDIRECT | C14: Text zu Zellreferenz | D14: {=INDIRECT("'Grunddaten'!C2")} -> Apfel | E14: Indirekter Bezug
A15: N14 | B15: OFFSET | C15: Versetzte Zelle | D15: =OFFSET(Grunddaten!A2,2,2) -> Kirsche | E15: Versatz

Sheet Aggregation
A1: Test-ID | B1: Funktion | C1: Prüffall | D1: Ergebnis | E1: Exportaspekt | G1: Region
A2: A01 | B2: SUMIF | C2: Mengen Nord | D2: =SUMIF(Grunddaten!B2:B13,"Nord",Grunddaten!D2:D13) -> 52 | E2: Ein Kriterium | G2: Nord
A3: A02 | B3: SUMIFS | C3: Mengen Nord und Apfel | D3: =SUMIFS(Grunddaten!D2:D13,Grunddaten!B2:B13,"Nord",Grunddaten!C2:C13,"Apfel") -> 10 | E3: Zwei Kriterien
A4: A03 | B4: SUMIFS | C4: Mengen ab 2025 | D4: =SUMIFS(Grunddaten!D2:D13,Grunddaten!F2:F13,">="&DATE(2025,1,1)) -> 4 | E4: Datumsgrenze
A5: A04 | B5: COUNTIF | C5: Anzahl Apfel | D5: =COUNTIF(Grunddaten!C2:C13,"Apfel") -> 4 | E5: Textkriterium
A6: A05 | B6: COUNTIF | C6: Anzahl mit A am Anfang | D6: =COUNTIF(Grunddaten!C2:C13,"A*") -> 4 | E6: Wildcard
A7: A06 | B7: COUNTIFS | C7: Süd und Menge > 0 | D7: =COUNTIFS(Grunddaten!B2:B13,"Süd",Grunddaten!D2:D13,">0") -> 2 | E7: Mehrere Kriterien
A8: A07 | B8: AVERAGEIF | C8: Mittlere Menge Nord | D8: =AVERAGEIF(Grunddaten!B2:B13,"Nord",Grunddaten!D2:D13) -> 13 | E8: Mittelwert
A9: A08 | B9: AVERAGEIFS | C9: Preis Süd und Apfel | D9: =AVERAGEIFS(Grunddaten!E2:E13,Grunddaten!B2:B13,"Süd",Grunddaten!C2:C13,"Apfel") -> 2.5 | E9: Mehrere Kriterien
A10: A09 | B10: MAXIFS | C10: Maximale Menge Nord | D10: =_xlfn.MAXIFS(Grunddaten!D2:D13,Grunddaten!B2:B13,"Nord") -> 20 | E10: Extremwert
A11: A10 | B11: MINIFS | C11: Kleinster Preis Apfel | D11: =_xlfn.MINIFS(Grunddaten!E2:E13,Grunddaten!C2:C13,"Apfel") -> 2.5 | E11: Extremwert
A12: A11 | B12: SUBTOTAL | C12: Summe mit Filterfähigkeit | D12: =SUBTOTAL(9,Grunddaten!D2:D13) -> 79 | E12: Filterabhängig
A13: A12 | B13: AGGREGATE | C13: MAX mit Fehlerunterdrückung | D13: =_xlfn.AGGREGATE(4,6,Grunddaten!D2:D13) -> 20 | E13: Option 6
A14: A13 | B14: DSUM | C14: Datenbanksumme Region Nord | D14: =DSUM(Grunddaten!A1:F13,"Menge",G1:G2) -> 52 | E14: Kriterienbereich G1:G2
A15: A14 | B15: SUMIF | C15: Menge ohne Region Nord | D15: =SUMIF(Grunddaten!B2:B13,"<>Nord",Grunddaten!D2:D13) -> 27 | E15: Ungleich
A16: A15 | B16: COUNTIFS | C16: 2024 und Menge positiv | D16: =COUNTIFS(Grunddaten!F2:F13,">="&DATE(2024,1,1),Grunddaten!F2:F13,"<"&DATE(2025,1,1),Grunddaten!D2:D13,">0") -> 7 | E16: Datumsintervall

Sheet Export-Kanten
A1: ID | B1: Literal / Eingabe | C1: Formel-Ergebnis | D1: Prüfziel | E1: Erwarteter Zelltyp
A2: E01 | B2: Links Rechts | D2: Tabulator innerhalb eines Feldes | E2: Text
A3: E02 | B3: Zeile 1 Zeile 2 | D3: LF innerhalb eines Feldes | E3: Text
A4: E03 | B4: Zeile 1_x000D_ Zeile 2 | D4: CRLF innerhalb eines Feldes | E4: Text
A5: E04 | B5: Er sagte "Hallo" | D5: Doppelte Quotes maskieren | E5: Text
A6: E05 | B6: A "B" C | D6: Tab + Quotes + LF kombinieren | E6: Text
A7: E06 | B7: Anfang | D7: Führende Leerzeichen bewahren | E7: Text
A8: E07 | B8: Ende | D8: Nachgestellte Leerzeichen bewahren | E8: Text
A9: E08 | D9: Echt leere Zelle | E9: Leer
A10: E09 | C10: =IF(TRUE,"", "x") | D10: Formel ergibt leeren String | E10: Text / Formel
A11: E10 | B11: 0 | D11: Numerischer Nullwert | E11: Zahl
A12: E11 | B12: FALSE | D12: Boolescher Wert | E12: Boolean
A13: E12 | C13: =1/0 -> #DIV/0! | D13: Absichtliches #DIV/0! | E13: Fehler / Formel
A14: E13 | C14: =NA() -> #N/A | D14: Absichtliches #N/A | E14: Fehler / Formel
A15: E14 | C15: =SQRT(-1) -> #NUM! | D15: Absichtliches #NUM! | E15: Fehler / Formel
A16: E15 | C16: =VALUE("kein Zahlenwert") -> #VALUE! | D16: Absichtliches #VALUE! | E16: Fehler / Formel
A17: E16 | C17: =_xlfn.CONCAT("oben",CHAR(10),"unten") -> oben unten | D17: Formelergebnis mit LF | E17: Text / Formel
A18: E17 | C18: =_xlfn.CONCAT("Er sagte ",CHAR(34),"Hallo",CHAR(34)) -> Er sagte "Hallo" | D18: Formelergebnis mit Anführungszeichen | E18: Text / Formel
A19: E18 | B19: Größe € 😀 日本語 | D19: Unicode und Sonderzeichen | E19: Text
A20: E19 | B20: 0.125 | D20: Zahl mit Prozentformat | E20: Zahl + Format
A21: E20 | C21: =DATE(2024,2,29) -> 45351 | D21: Datum ist numerischer Serienwert | E21: Datum / Formel
A22: E21 | B22: =SUM(1,2) | C22: =_xlfn.ISFORMULA(B22) -> FALSE | D22: Formelähnlicher Literaltext | E22: Text, keine Formel
A23: E22 | B23: 0.31415927 | D23: Numerische Präzision | E23: Zahl
A24: E23 | B24: 1200000000000 | D24: Große Zahl / wissenschaftliche Notation | E24: Zahl
